BEGIN:VCALENDAR
VERSION:2.0
PRODID:-//wp-events-plugin.com//7.2.3.1//EN
TZID:America/New_York
X-WR-TIMEZONE:America/New_York
BEGIN:VEVENT
UID:4786@ahavatachim.org
DTSTART;TZID=America/New_York:20240526T120000
DTEND;TZID=America/New_York:20240526T150000
DTSTAMP:20240510T155141Z
URL:https://www.ahavatachim.org/events/lag-baomer-unity-event-playground-g
 rand-opening-2/
SUMMARY:Lag Baomer Unity Event & Playground Grand Opening
DESCRIPTION:Please join us on Lag Baomer for a special community wide celeb
 ration and fundraiser for the Kerem Shalom community in Israel. This unity
  event will feature the grand opening of our very own playground as we aim
  to raise&nbsp\;money&nbsp\;for a playground in Kerem Shalom.&nbsp\;\n&nbs
 p\;\nThe event is for the entire community\, with activities for children&
 nbsp\;including&nbsp\;a bounce house\, bach 2 rock music\, sand art and mo
 re!&nbsp\;\n&nbsp\;\nIsraeli themed food is sponsored for all attendees!\n
 :\nWhile the event is free to attend\, RSVP is required by May 19 using th
 is link:&nbsp\;https://forms.gle/7HT84gRUgEqS49Tn7
ATTACH;FMTTYPE=image/jpeg:https://www.ahavatachim.org/wp-content/uploads/2
 024/04/Screenshot-2024-05-10-at-11.51.15-AM.png
CATEGORIES:Featured,Shul Events
END:VEVENT
BEGIN:VTIMEZONE
TZID:America/New_York
X-LIC-LOCATION:America/New_York
BEGIN:DAYLIGHT
DTSTART:20240310T030000
TZOFFSETFROM:-0500
TZOFFSETTO:-0400
TZNAME:EDT
END:DAYLIGHT
END:VTIMEZONE
END:VCALENDAR