BEGIN:VCALENDAR
VERSION:2.0
PRODID:-//wp-events-plugin.com//7.2.3.1//EN
TZID:America/New_York
X-WR-TIMEZONE:America/New_York
BEGIN:VEVENT
UID:4155@ahavatachim.org
DTSTART;TZID=America/New_York:20220109T000000
DTEND;TZID=America/New_York:20220213T000000
DTSTAMP:20220109T143350Z
URL:https://www.ahavatachim.org/events/lets-stay-safe/
SUMMARY:Let's Stay Safe
DESCRIPTION:Given the important conversations taking place related to child
  sexual abuse prevention and education\, we have&nbsp\;placed a bulk order
  of&nbsp\;Let’s Stay Safe\, a children’s book addressing child safety.
 &nbsp\;\n&nbsp\;\nBooks are available for purchase for $5 each. If you wou
 ld like to order a book\, please pay through the shul's PayPal account and
  send Kira an email letting her know that you have placed an order. Kira a
 nd Andrew will be distributing the books and will be in touch about pickup
 s. There will also be a supply of books in the Beit Midrash for anyone who
  would like to take a look at it before purchasing.&nbsp\;\n&nbsp\;\nIf yo
 u want to learn more about the book\, you can check out the website as wel
 l as a recent article&nbsp\;in the Jewish Link about this initiative.\nhtt
 p://www.rabbihorowitz.com/letsstaysafe/index.html&nbsp\;\nhttps://jewishli
 nk.news/features/48030-let-s-help-our-children-stay-safe\n
ATTACH;FMTTYPE=image/jpeg:https://www.ahavatachim.org/wp-content/uploads/2
 022/01/Screen-Shot-2022-01-09-at-9.30.48-AM.png
CATEGORIES:Featured,Youth Programs
END:VEVENT
BEGIN:VTIMEZONE
TZID:America/New_York
X-LIC-LOCATION:America/New_York
BEGIN:STANDARD
DTSTART:20211107T010000
TZOFFSETFROM:-0400
TZOFFSETTO:-0500
TZNAME:EST
END:STANDARD
END:VTIMEZONE
END:VCALENDAR