BEGIN:VCALENDAR
VERSION:2.0
PRODID:-//wp-events-plugin.com//7.2.3.1//EN
TZID:America/New_York
X-WR-TIMEZONE:America/New_York
BEGIN:VEVENT
UID:2180@ahavatachim.org
DTSTART;TZID=America/New_York:20200921T203000
DTEND;TZID=America/New_York:20200921T213000
DTSTAMP:20200917T000222Z
URL:https://www.ahavatachim.org/events/making-a-family-tree/
SUMMARY:Making a Family Tree
DESCRIPTION:Making a Family Tree
CATEGORIES:Adult Learning Classes,Shul Events
END:VEVENT
BEGIN:VTIMEZONE
TZID:America/New_York
X-LIC-LOCATION:America/New_York
BEGIN:DAYLIGHT
DTSTART:20200308T030000
TZOFFSETFROM:-0500
TZOFFSETTO:-0400
TZNAME:EDT
END:DAYLIGHT
END:VTIMEZONE
END:VCALENDAR