BEGIN:VCALENDAR
VERSION:2.0
PRODID:-//wp-events-plugin.com//7.2.3.1//EN
TZID:America/New_York
X-WR-TIMEZONE:America/New_York
BEGIN:VEVENT
UID:4793@ahavatachim.org
DTSTART;TZID=America/New_York:20240518T193500
DTEND;TZID=America/New_York:20240518T193500
DTSTAMP:20240510T021323Z
URL:https://www.ahavatachim.org/events/mental-health-awareness-discussion-
 2/
SUMMARY:Mental Health Awareness Discussion
DESCRIPTION:
ATTACH;FMTTYPE=image/jpeg:https://www.ahavatachim.org/wp-content/uploads/2
 024/05/PHOTO-2024-05-09-21-45-00.jpg
CATEGORIES:Featured,Shul Events
END:VEVENT
BEGIN:VTIMEZONE
TZID:America/New_York
X-LIC-LOCATION:America/New_York
BEGIN:DAYLIGHT
DTSTART:20240310T030000
TZOFFSETFROM:-0500
TZOFFSETTO:-0400
TZNAME:EDT
END:DAYLIGHT
END:VTIMEZONE
END:VCALENDAR