BEGIN:VCALENDAR
VERSION:2.0
PRODID:-//wp-events-plugin.com//7.2.3.1//EN
TZID:America/New_York
X-WR-TIMEZONE:America/New_York
BEGIN:VEVENT
UID:4680@ahavatachim.org
DTSTART;TZID=America/New_York:20231014T180000
DTEND;TZID=America/New_York:20231014T180000
DTSTAMP:20230824T211402Z
URL:https://www.ahavatachim.org/events/mental-health-awareness-discussion/
SUMMARY:Mental Health Awareness Discussion
DESCRIPTION:Join us at seudah shlishit on October 14th for a&nbsp\;mental&n
 bsp\;health awareness discussion on the topic of "Why&nbsp\;Mental&nbsp\;H
 ealth Matters: Strength and Struggle". Listen as Kira Wigod\, LCSW\, MPS-H
 \, Andrea Riskin\, PsyD\, and Jewel Safren\, LCSW speak about this importa
 nt topic in a discussion moderated by&nbsp\;Chana Shestack\, LSW.\n&nbsp\;
 \nMincha will be at 5:30pm\, followed&nbsp\;by seudah shlishit and discuss
 ion at 6:00pm.&nbsp\;RSVP at&nbsp\;events@ahavatavhim.com.&nbsp\;&nbsp\;\n
 &nbsp\;\n
ATTACH;FMTTYPE=image/jpeg:https://www.ahavatachim.org/wp-content/uploads/2
 023/08/Mental-Health-Awareness-Flyer-pdf.jpg
CATEGORIES:Featured,Shul Events
END:VEVENT
BEGIN:VTIMEZONE
TZID:America/New_York
X-LIC-LOCATION:America/New_York
BEGIN:DAYLIGHT
DTSTART:20230312T030000
TZOFFSETFROM:-0500
TZOFFSETTO:-0400
TZNAME:EDT
END:DAYLIGHT
END:VTIMEZONE
END:VCALENDAR