BEGIN:VCALENDAR
VERSION:2.0
PRODID:-//wp-events-plugin.com//7.2.3.1//EN
TZID:America/New_York
X-WR-TIMEZONE:America/New_York
BEGIN:VEVENT
UID:4749@ahavatachim.org
DTSTART;TZID=America/New_York:20240323T180000
DTEND;TZID=America/New_York:20240323T183000
DTSTAMP:20240225T152306Z
URL:https://www.ahavatachim.org/events/mesorah-in-reverse-biographical-stu
 dies-of-our-sages-2024-03-23/
SUMMARY:Mesorah in Reverse: Biographical Studies of Our Sages
DESCRIPTION:Seudah shlishit
CATEGORIES:Adult Learning Classes
END:VEVENT
BEGIN:VTIMEZONE
TZID:America/New_York
X-LIC-LOCATION:America/New_York
BEGIN:DAYLIGHT
DTSTART:20240310T030000
TZOFFSETFROM:-0500
TZOFFSETTO:-0400
TZNAME:EDT
END:DAYLIGHT
END:VTIMEZONE
END:VCALENDAR