BEGIN:VCALENDAR
VERSION:2.0
PRODID:-//wp-events-plugin.com//7.2.3.1//EN
TZID:America/New_York
X-WR-TIMEZONE:America/New_York
BEGIN:VEVENT
UID:4721@ahavatachim.org
DTSTART;TZID=America/New_York:20240310T000000
DTEND;TZID=America/New_York:20240310T000000
DTSTAMP:20240215T231136Z
URL:https://www.ahavatachim.org/events/mishloach-manot-3/
SUMMARY:Mishloach Manot
DESCRIPTION:\nMishloach Manot Sign Up\n
ATTACH;FMTTYPE=image/jpeg:https://www.ahavatachim.org/wp-content/uploads/2
 024/02/AA-Purim-Mishloach-Manot-2024.jpg
CATEGORIES:Featured,Shul Events
END:VEVENT
BEGIN:VTIMEZONE
TZID:America/New_York
X-LIC-LOCATION:America/New_York
BEGIN:STANDARD
DTSTART:20231105T010000
TZOFFSETFROM:-0400
TZOFFSETTO:-0500
TZNAME:EST
END:STANDARD
END:VTIMEZONE
END:VCALENDAR