BEGIN:VCALENDAR
VERSION:2.0
PRODID:-//wp-events-plugin.com//7.2.3.1//EN
TZID:America/New_York
X-WR-TIMEZONE:America/New_York
BEGIN:VEVENT
UID:4160@ahavatachim.org
DTSTART;TZID=America/New_York:20220306T235900
DTEND;TZID=America/New_York:20220306T235900
DTSTAMP:20220218T014809Z
URL:https://www.ahavatachim.org/events/mishloach-manot/
SUMMARY:Mishloach Manot
DESCRIPTION:Purim is rapidly approaching\, which means it is time to order 
 your Mishloach Manot!&nbsp\; The deadline to order is 3/6!\n&nbsp\;\nThis 
 year you can order through the form or you can order using this&nbsp\;Goog
 le Form!\n&nbsp\;\nWe can’t wait to celebrate with you! &nbsp\;\n&nbsp\;
 \nPS: Mishloach Manot will be delivered on 3/17!&nbsp\;&nbsp\;\n\nClick im
 age to view:\n\n\n&nbsp\;\n\n\n&nbsp\;
ATTACH;FMTTYPE=image/jpeg:https://www.ahavatachim.org/wp-content/uploads/2
 022/02/Screen-Shot-2022-02-17-at-8.32.09-PM.png
CATEGORIES:Featured,Shul Events
END:VEVENT
BEGIN:VTIMEZONE
TZID:America/New_York
X-LIC-LOCATION:America/New_York
BEGIN:STANDARD
DTSTART:20211107T010000
TZOFFSETFROM:-0400
TZOFFSETTO:-0500
TZNAME:EST
END:STANDARD
END:VTIMEZONE
END:VCALENDAR