BEGIN:VCALENDAR
VERSION:2.0
PRODID:-//wp-events-plugin.com//7.2.3.1//EN
TZID:America/New_York
X-WR-TIMEZONE:America/New_York
BEGIN:VEVENT
UID:4182@ahavatachim.org
DTSTART;TZID=America/New_York:20220917T123000
DTEND;TZID=America/New_York:20220917T123000
DTSTAMP:20220809T005422Z
URL:https://www.ahavatachim.org/events/mix-munch-shabbat-lunch-2/
SUMMARY:Mix & Munch Shabbat Lunch
DESCRIPTION:Young Families Mix &amp\; Munch Lunch after kiddush (hosts tbd)
 \, followed by dessert and a Stay &amp\; Play at the Santacruz abode\, 19-
 06 Jordan Rd.\, at 3:00 PM!
ATTACH;FMTTYPE=image/jpeg:https://www.ahavatachim.org/wp-content/uploads/2
 022/07/image0-4.jpeg
CATEGORIES:Featured,Youth Programs
END:VEVENT
BEGIN:VTIMEZONE
TZID:America/New_York
X-LIC-LOCATION:America/New_York
BEGIN:DAYLIGHT
DTSTART:20220313T030000
TZOFFSETFROM:-0500
TZOFFSETTO:-0400
TZNAME:EDT
END:DAYLIGHT
END:VTIMEZONE
END:VCALENDAR