BEGIN:VCALENDAR
VERSION:2.0
PRODID:-//wp-events-plugin.com//7.2.3.1//EN
TZID:America/New_York
X-WR-TIMEZONE:America/New_York
BEGIN:VEVENT
UID:4173@ahavatachim.org
DTSTART;TZID=America/New_York:20220709T123000
DTEND;TZID=America/New_York:20220709T123000
DTSTAMP:20220621T141629Z
URL:https://www.ahavatachim.org/events/mix-munch-shabbat-lunch/
SUMMARY:Mix & Munch Shabbat Lunch
DESCRIPTION:On Shabbat\, July 9th young families are invited to join us for
  a fun Mix &amp\; Munch Shabbat lunch event! We plan to set up groups of f
 amilies to share a Shabbat lunch together and schmooze before heading over
  to the collective Stay &amp\; Play. Please register for this event by usi
 ng the link HERE. Reach out to Natasha Borsuk for any questions.
ATTACH;FMTTYPE=image/jpeg:https://www.ahavatachim.org/wp-content/uploads/2
 022/06/MixnMunch-pdf.jpg
CATEGORIES:Featured,Youth Programs
END:VEVENT
BEGIN:VTIMEZONE
TZID:America/New_York
X-LIC-LOCATION:America/New_York
BEGIN:DAYLIGHT
DTSTART:20220313T030000
TZOFFSETFROM:-0500
TZOFFSETTO:-0400
TZNAME:EDT
END:DAYLIGHT
END:VTIMEZONE
END:VCALENDAR