BEGIN:VCALENDAR
VERSION:2.0
PRODID:-//wp-events-plugin.com//7.2.3.1//EN
TZID:America/New_York
X-WR-TIMEZONE:America/New_York
BEGIN:VEVENT
UID:4720@ahavatachim.org
DTSTART;TZID=America/New_York:20240310T091500
DTEND;TZID=America/New_York:20240310T091500
DTSTAMP:20240219T130821Z
URL:https://www.ahavatachim.org/events/musical-hallel-community-open-house
 /
SUMMARY:Musical Hallel + Community Open House
DESCRIPTION:On Sunday March 10th\, Ahavat Achim will be hosting a special S
 hacharit for Rosh Chodesh Adar Bet with Musical Hallel. We will be invitin
 g a number of prospective families to join us\, but all current Ahavat Ach
 im families are welcome and encouraged to attend!\n\nFollowing Hallel\, th
 ere will be a Mask Decorating session for children. And following the conc
 lusion of Shacharit\, we will host a Meet &amp\; Greet for prospective fam
 ilies to get know our community.\n\nPlease RSVP&nbsp\;here by 3/1 to let u
 s know if you plan to attend Shacharit with Musical Hallel and to indicate
  whether you are interested and/or willing to participate in welcoming vis
 itors during the Meet &amp\; Greet.
ATTACH;FMTTYPE=image/jpeg:https://www.ahavatachim.org/wp-content/uploads/2
 024/02/AA-Musical-Hallel-Open-House-internal.png
CATEGORIES:Featured,Shul Events,Visit
END:VEVENT
BEGIN:VTIMEZONE
TZID:America/New_York
X-LIC-LOCATION:America/New_York
BEGIN:DAYLIGHT
DTSTART:20240310T030000
TZOFFSETFROM:-0500
TZOFFSETTO:-0400
TZNAME:EDT
END:DAYLIGHT
END:VTIMEZONE
END:VCALENDAR