BEGIN:VCALENDAR
VERSION:2.0
PRODID:-//wp-events-plugin.com//7.2.3.1//EN
TZID:America/New_York
X-WR-TIMEZONE:America/New_York
BEGIN:VEVENT
UID:4708@ahavatachim.org
DTSTART;TZID=America/New_York:20240308T174000
DTEND;TZID=America/New_York:20240308T174000
DTSTAMP:20240126T162649Z
URL:https://www.ahavatachim.org/events/musical-kabbalat-shabbat-2/
SUMMARY:Musical Kabbalat Shabbat
DESCRIPTION:
ATTACH;FMTTYPE=image/jpeg:https://www.ahavatachim.org/wp-content/uploads/2
 024/01/Screenshot-2024-01-26-at-11.23.12-AM.png
CATEGORIES:Featured,Shul Events
END:VEVENT
BEGIN:VTIMEZONE
TZID:America/New_York
X-LIC-LOCATION:America/New_York
BEGIN:STANDARD
DTSTART:20231105T010000
TZOFFSETFROM:-0400
TZOFFSETTO:-0500
TZNAME:EST
END:STANDARD
END:VTIMEZONE
END:VCALENDAR