BEGIN:VCALENDAR
VERSION:2.0
PRODID:-//wp-events-plugin.com//7.2.3.1//EN
TZID:America/New_York
X-WR-TIMEZONE:America/New_York
BEGIN:VEVENT
UID:3745@ahavatachim.org
DTSTART;TZID=America/New_York;VALUE=DATE:20201205
DTEND;TZID=America/New_York;VALUE=DATE:20201206
DTSTAMP:20201122T143622Z
URL:https://www.ahavatachim.org/events/mystery-maccabee-exchange/
SUMMARY:Mystery Maccabee Exchange
DESCRIPTION:We are thrilled to announce the kickoff of a new program to enc
 ourage safe socially distanced community interactions: A Mystery Maccabee 
 gift exchange (for adults)!  \n\nInterested people will be paired with ano
 ther adult to exchange a secret gift of up to $15. This SURPRISE will brin
 g a little more light into your life!  \n\nSign up by 12/5 and plan a soci
 ally distanced\, masked gift drop!  \nClick here to sign up!
ATTACH;FMTTYPE=image/jpeg:https://www.ahavatachim.org/wp-content/uploads/2
 020/11/AA-Mystery-Maccabee.jpg
CATEGORIES:Featured,Shul Events
END:VEVENT
BEGIN:VTIMEZONE
TZID:America/New_York
X-LIC-LOCATION:America/New_York
BEGIN:STANDARD
DTSTART:20201101T010000
TZOFFSETFROM:-0400
TZOFFSETTO:-0500
TZNAME:EST
END:STANDARD
END:VTIMEZONE
END:VCALENDAR