BEGIN:VCALENDAR
VERSION:2.0
PRODID:-//wp-events-plugin.com//7.2.3.1//EN
TZID:America/New_York
X-WR-TIMEZONE:America/New_York
BEGIN:VEVENT
UID:3753@ahavatachim.org
DTSTART;TZID=America/New_York:20210101T090000
DTEND;TZID=America/New_York:20210101T090000
DTSTAMP:20201125T230753Z
URL:https://www.ahavatachim.org/events/new-years-day-is-there-meaning-in-a
 -secular-concepcion-of-time/
SUMMARY:New Year's Day: Is there Meaning in a Secular Concepcion of Time? 
DESCRIPTION:An Americana Series: Exploring “One Nation Under God": Throug
 h the Lens of Judaism.\n\nNew Year's Day: "Is there Meaning in a Secular C
 oncepcion of Time?"&nbsp\; Creating a contrast with Kedushat Hayom - prese
 nted by Rabbi Ely Shestack\n\nhttps://zoom.us/j/7291311899\n&nbsp\;&nbsp\;
  Password: 112233
ATTACH;FMTTYPE=image/jpeg:https://www.ahavatachim.org/wp-content/uploads/2
 020/11/AA-Americana-series-NYD.jpg
CATEGORIES:Featured,Limited Series,Shul Events
END:VEVENT
BEGIN:VTIMEZONE
TZID:America/New_York
X-LIC-LOCATION:America/New_York
BEGIN:STANDARD
DTSTART:20201101T010000
TZOFFSETFROM:-0400
TZOFFSETTO:-0500
TZNAME:EST
END:STANDARD
END:VTIMEZONE
END:VCALENDAR