BEGIN:VCALENDAR
VERSION:2.0
PRODID:-//wp-events-plugin.com//7.2.3.1//EN
TZID:America/New_York
X-WR-TIMEZONE:America/New_York
BEGIN:VEVENT
UID:4063@ahavatachim.org
DTSTART;TZID=America/New_York:20210814T101500
DTEND;TZID=America/New_York:20210814T111500
DTSTAMP:20210802T152237Z
URL:https://www.ahavatachim.org/events/outdoor-shabbat-youth-groups-2021-0
 8-14/
SUMMARY:Outdoor Shabbat Youth Groups
DESCRIPTION:We are excited to share that in addition to Tot Shabbat groups\
 , we will&nbsp\;be having groups for children ages 6 and up this Shabbat 6
 /19 as well as next week 6/26!\n&nbsp\;\nGroups for children ages 6 and up
  will be led by Michael Riskin. Please meet him in the parking lot at 10:1
 5 AM!\n&nbsp\;\nChildren ages 0-5 are invited to join their friends for ou
 tdoor groups on Shabbat mornings from 10:15-11:15 AM in the&nbsp\;parking 
 lot.&nbsp\;\n&nbsp\;\nChildren under 3 must be accompanied by a designated
  adult.&nbsp\; Parents of children over 3 who are interested&nbsp\;in the 
 drop off option should email&nbsp\;kira.batist.msw@gmail.com.&nbsp\;\n&nbs
 p\;\nIn the case of rain\, groups will be cancelled.&nbsp\; &nbsp\;\n\n&nb
 sp\;\nWe are so excited&nbsp\;to see all of your children! In order to mak
 e sure that groups are fun and safe\, we ask for your cooperation in abidi
 ng by the following guidelines:\n&nbsp\;\n- Children ages 2 and over must 
 wear a mask.\n- For children participating in the drop off option\, the de
 signated adult who drops the child off must inform&nbsp\;the group&nbsp\;l
 eader of where they will be located.\n- Group leaders will not accompany c
 hildren&nbsp\;into a bathroom stall. If a child needs to use the bathroom 
 and requires&nbsp\;any form of assistance\, they will be escorted to their
  parents who can assist&nbsp\;them and then bring them back to the group.\
 n- If a child asks to leave the group\, a group&nbsp\;leader will inform t
 he parent\, as they will no longer be supervised by the group leader.&nbsp
 \;\n&nbsp\;\n\nDue to limited seating\, please bring your own blanket or t
 owel to sit on as the pavement tends to get hot.&nbsp\;\n&nbsp\;\nWhile we
  are so happy that the weather is warming up\, please be sure&nbsp\;to bri
 ng a water bottle for your child!&nbsp\;\n\n&nbsp\;\nPlease see the attach
 ed flyers with more detailed&nbsp\;information.\n&nbsp\;\nIf you have any 
 questions\, please email&nbsp\;kira.batist.msw@gmail.com
ATTACH;FMTTYPE=image/jpeg:https://www.ahavatachim.org/wp-content/uploads/2
 021/06/Screen-Shot-2021-06-18-at-10.07.04-AM.png
CATEGORIES:Featured,Youth Programs
END:VEVENT
BEGIN:VTIMEZONE
TZID:America/New_York
X-LIC-LOCATION:America/New_York
BEGIN:DAYLIGHT
DTSTART:20210314T030000
TZOFFSETFROM:-0500
TZOFFSETTO:-0400
TZNAME:EDT
END:DAYLIGHT
END:VTIMEZONE
END:VCALENDAR