BEGIN:VCALENDAR
VERSION:2.0
PRODID:-//wp-events-plugin.com//7.2.3.1//EN
TZID:America/New_York
X-WR-TIMEZONE:America/New_York
BEGIN:VEVENT
UID:4157@ahavatachim.org
DTSTART;TZID=America/New_York:20220122T101500
DTEND;TZID=America/New_York:20220122T111500
DTSTAMP:20220109T143519Z
URL:https://www.ahavatachim.org/events/outdoor-tot-shabbat-groups-2022-01-
 22/
SUMMARY:Indoor Tot Shabbat & Groups
DESCRIPTION:\n\nChildren under 4 years old will meet in the youth room to t
 he right upon entry to the kiddush hall. This will be a parent led group.&
 nbsp\;\nChildren ages 4-7 will meet in the youth room to the left upon ent
 ry to the kiddush hall. This group will be run by our wonderful youth lead
 ers. Parents are encouraged to drop their children off.&nbsp\;\nOlder elem
 entary&nbsp\;aged children and pre-teens will meet in the Beit Midrash.&nb
 sp\;\n1. Masks will be mandatory for all children 2 and up as well as acco
 mpanying adults and youth leaders\, regardless of vaccination status.\n\n2
 .&nbsp\; Snacks will take place outside\, during the last 15 minutes of gr
 oups.&nbsp\; Please do not send snacks to be eaten indoors.&nbsp\; \n\n\nP
 lease feel free to reach out to Kira or Andrew with&nbsp\;any questions.\n
 \nkira.batist.msw@gmail.com
ATTACH;FMTTYPE=image/jpeg:https://www.ahavatachim.org/wp-content/uploads/2
 021/05/OutdoorGroupsExtended.jpeg
CATEGORIES:Featured,Youth Programs
END:VEVENT
BEGIN:VTIMEZONE
TZID:America/New_York
X-LIC-LOCATION:America/New_York
BEGIN:STANDARD
DTSTART:20211107T010000
TZOFFSETFROM:-0400
TZOFFSETTO:-0500
TZNAME:EST
END:STANDARD
END:VTIMEZONE
END:VCALENDAR