BEGIN:VCALENDAR
VERSION:2.0
PRODID:-//wp-events-plugin.com//7.2.3.1//EN
TZID:America/New_York
X-WR-TIMEZONE:America/New_York
BEGIN:VEVENT
UID:4697@ahavatachim.org
DTSTART;TZID=America/New_York:20231118T180000
DTEND;TZID=America/New_York:20231118T180000
DTSTAMP:20231110T120509Z
URL:https://www.ahavatachim.org/events/parent-child-learning-9/
SUMMARY:Parent Child Learning
DESCRIPTION:Hi everyone\,\n&nbsp\;\nWe are excited&nbsp\;to share that Pare
 nt Child Learning is back with two upcoming sessions!\n&nbsp\;\nJoin us Mo
 tzei Shabbat on 11/18 and 12/16 to learn about the different brachot with 
 Rabbi Shestack and enjoy&nbsp\;some yummy cereals with your friends! Prize
 s will be given out to all (non-adult) participants!\n&nbsp\;\n*Please not
 e that you can join one or both sessions. If you cannot make it to 11/18 y
 ou can still enjoy 12/16!\n&nbsp\;\nRSVP by replying&nbsp\;to this email b
 y 11/16.\n&nbsp\;\nSee you there!\n&nbsp\;\nThe Youth Committee
ATTACH;FMTTYPE=image/jpeg:https://www.ahavatachim.org/wp-content/uploads/2
 023/11/PCLWinter2023.jpg
CATEGORIES:Featured,Youth Programs
END:VEVENT
BEGIN:VTIMEZONE
TZID:America/New_York
X-LIC-LOCATION:America/New_York
BEGIN:STANDARD
DTSTART:20231105T010000
TZOFFSETFROM:-0400
TZOFFSETTO:-0500
TZNAME:EST
END:STANDARD
END:VTIMEZONE
END:VCALENDAR