BEGIN:VCALENDAR
VERSION:2.0
PRODID:-//wp-events-plugin.com//7.2.3.1//EN
TZID:America/New_York
X-WR-TIMEZONE:America/New_York
BEGIN:VEVENT
UID:4765@ahavatachim.org
DTSTART;TZID=America/New_York:20240319T130000
DTEND;TZID=America/New_York:20240319T133000
DTSTAMP:20240225T152805Z
URL:https://www.ahavatachim.org/events/parsha-shiur-through-the-lens-of-r-
 samson-raphael-hirsch-2024-03-19/
SUMMARY:Parsha Shiur through the lens of R' Samson Raphael Hirsch
DESCRIPTION:On Zoom
CATEGORIES:Adult Learning Classes
END:VEVENT
BEGIN:VTIMEZONE
TZID:America/New_York
X-LIC-LOCATION:America/New_York
BEGIN:DAYLIGHT
DTSTART:20240310T030000
TZOFFSETFROM:-0500
TZOFFSETTO:-0400
TZNAME:EDT
END:DAYLIGHT
END:VTIMEZONE
END:VCALENDAR