BEGIN:VCALENDAR
VERSION:2.0
PRODID:-//wp-events-plugin.com//7.2.3.1//EN
TZID:America/New_York
X-WR-TIMEZONE:America/New_York
BEGIN:VEVENT
UID:3581@ahavatachim.org
DTSTART;TZID=America/New_York;VALUE=DATE:20201120
DTEND;TZID=America/New_York;VALUE=DATE:20201121
DTSTAMP:20201207T231759Z
URL:https://www.ahavatachim.org/events/pie-train-exchange/
SUMMARY:Pie Train Exchange
DESCRIPTION:[ngg src="galleries" ids="6" display="basic_thumbnail" thumbnai
 l_crop="0"]\nDue to the resounding success of our Simchat Torah Dessert Tr
 ain\, we will be continuing this program with a themed exchange each of th
 e upcoming months.&nbsp\; In November\, we will be doing a Pie Train!&nbsp
 \;\nFor those interested\, please sign up using this&nbsp\;Google Form&nbs
 p\;to make (or buy) a pie for\, and receive a pie from someone else!&nbsp\
 ; We will also be accepting pies to be donated to first responders as a sm
 all act of thanks for their service.&nbsp\; In addition to sharing your ad
 dress and preferred contact info\, there is a comment column in the form w
 here you can share any food restrictions\, delivery details\, preference f
 or a purchased item\, etc. It is our recommendation to share parve options
  only\, though you can request a dairy option (in the comment field) if pr
 eferred.\nPlease sign up by Friday\, November 20th and we will then share 
 the assignments on Sunday\,&nbsp\;November 22nd.&nbsp\;\n\nIf you have any
  questions\, feel free to reach out to me.\nLooking forward to eating some
  delicious pie!&nbsp\;&nbsp\;\nLiz\nelysheva23@gmail.com&nbsp\;
ATTACH;FMTTYPE=image/jpeg:https://www.ahavatachim.org/wp-content/uploads/2
 020/11/PieTrainExchange.jpg
CATEGORIES:Featured,Shul Events
END:VEVENT
BEGIN:VTIMEZONE
TZID:America/New_York
X-LIC-LOCATION:America/New_York
BEGIN:STANDARD
DTSTART:20201101T010000
TZOFFSETFROM:-0400
TZOFFSETTO:-0500
TZNAME:EST
END:STANDARD
END:VTIMEZONE
END:VCALENDAR