BEGIN:VCALENDAR
VERSION:2.0
PRODID:-//wp-events-plugin.com//7.2.3.1//EN
TZID:America/New_York
X-WR-TIMEZONE:America/New_York
BEGIN:VEVENT
UID:4261@ahavatachim.org
DTSTART;TZID=America/New_York:20221124T093000
DTEND;TZID=America/New_York:20221124T093000
DTSTAMP:20230414T205524Z
URL:https://www.ahavatachim.org/events/play-give-get-and-donate/
SUMMARY:Play\, Give\, Get and Donate
DESCRIPTION:
ATTACH;FMTTYPE=image/jpeg:https://www.ahavatachim.org/wp-content/uploads/2
 022/11/B5CA111B-A638-4B3E-9980-C55481F26DF7.jpg
CATEGORIES:Featured,Shul Events
END:VEVENT
BEGIN:VTIMEZONE
TZID:America/New_York
X-LIC-LOCATION:America/New_York
BEGIN:STANDARD
DTSTART:20221106T010000
TZOFFSETFROM:-0400
TZOFFSETTO:-0500
TZNAME:EST
END:STANDARD
END:VTIMEZONE
END:VCALENDAR