BEGIN:VCALENDAR
VERSION:2.0
PRODID:-//wp-events-plugin.com//7.2.3.1//EN
TZID:America/New_York
X-WR-TIMEZONE:America/New_York
BEGIN:VEVENT
UID:4696@ahavatachim.org
DTSTART;TZID=America/New_York:20231215T163000
DTEND;TZID=America/New_York:20231215T163000
DTSTAMP:20231110T120157Z
URL:https://www.ahavatachim.org/events/post-chanukah-shabbat-dinner/
SUMMARY:Post Chanukah Shabbat Dinner
DESCRIPTION:We invite you to join us on the Shabbat&nbsp\;after Chanukah\, 
 as we break down&nbsp\;barriers between neighbors and&nbsp\;create authent
 ic connections&nbsp\;within our local Jewish community&nbsp\;during these 
 challenging times.\n\nLink to RSVP:&nbsp\;https://forms.gle/4NvqZPPuwTyj8N
 9F7
ATTACH;FMTTYPE=image/jpeg:https://www.ahavatachim.org/wp-content/uploads/2
 023/11/AA-Chanukah-Dinner-2-pdf.jpg
CATEGORIES:Featured,Shul Events
END:VEVENT
BEGIN:VTIMEZONE
TZID:America/New_York
X-LIC-LOCATION:America/New_York
BEGIN:STANDARD
DTSTART:20231105T010000
TZOFFSETFROM:-0400
TZOFFSETTO:-0500
TZNAME:EST
END:STANDARD
END:VTIMEZONE
END:VCALENDAR