BEGIN:VCALENDAR
VERSION:2.0
PRODID:-//wp-events-plugin.com//7.2.3.1//EN
TZID:America/New_York
X-WR-TIMEZONE:America/New_York
BEGIN:VEVENT
UID:4134@ahavatachim.org
DTSTART;TZID=America/New_York:20211124T201500
DTEND;TZID=America/New_York:20211124T210000
DTSTAMP:20211121T161306Z
URL:https://www.ahavatachim.org/events/pre-chanukah-mini-series/
SUMMARY:Pre-Chanukah Mini-Series
DESCRIPTION:Please join us for the Pre-Chanuka Mini-Series "Chanuka: In His
 tory\, Memory\, and Meaning".\nLooking forward to learning together in pre
 paration and anticipation of the Festival of Lights!&nbsp\;\nClick on imag
 e to view:\n
ATTACH;FMTTYPE=image/jpeg:https://www.ahavatachim.org/wp-content/uploads/2
 021/11/5782-Chanuka-Series-Flyer.jpg
CATEGORIES:Featured,Shul Events
END:VEVENT
BEGIN:VTIMEZONE
TZID:America/New_York
X-LIC-LOCATION:America/New_York
BEGIN:STANDARD
DTSTART:20211107T010000
TZOFFSETFROM:-0400
TZOFFSETTO:-0500
TZNAME:EST
END:STANDARD
END:VTIMEZONE
END:VCALENDAR