BEGIN:VCALENDAR
VERSION:2.0
PRODID:-//wp-events-plugin.com//7.2.3.1//EN
TZID:America/New_York
X-WR-TIMEZONE:America/New_York
BEGIN:VEVENT
UID:4781@ahavatachim.org
DTSTART;TZID=America/New_York:20240420T110000
DTEND;TZID=America/New_York:20240420T110000
DTSTAMP:20240404T153520Z
URL:https://www.ahavatachim.org/events/pre-pesach-community-luncheon-kiddu
 sh/
SUMMARY:Pre-Pesach Community Luncheon Kiddush
DESCRIPTION:Event: &nbsp\;Pre-Pesach Community Luncheon Kiddush\nDate: 4/20
 /2024\nLink to RSVP:&nbsp\;https://forms.gle/p355dpy76qfxXcNV9&nbsp\;\nCab
 inets bare before Pesach?&nbsp\; Sign up to sponsor one last kiddush lunch
 eon before Pesach on April 20th or to make a crockpot dish for the entire 
 community to enjoy!&nbsp\; It's one last chance to eat challah with friend
 s and family\, before 8 days of matzah!
ATTACH;FMTTYPE=image/jpeg:https://www.ahavatachim.org/wp-content/uploads/2
 024/04/Pre-Pesach-Luncheon-2024.jpg
CATEGORIES:Featured,Shul Events
END:VEVENT
BEGIN:VTIMEZONE
TZID:America/New_York
X-LIC-LOCATION:America/New_York
BEGIN:DAYLIGHT
DTSTART:20240310T030000
TZOFFSETFROM:-0500
TZOFFSETTO:-0400
TZNAME:EDT
END:DAYLIGHT
END:VTIMEZONE
END:VCALENDAR