BEGIN:VCALENDAR
VERSION:2.0
PRODID:-//wp-events-plugin.com//7.2.3.1//EN
TZID:America/New_York
X-WR-TIMEZONE:America/New_York
BEGIN:VEVENT
UID:4632@ahavatachim.org
DTSTART;TZID=America/New_York:20230401T120000
DTEND;TZID=America/New_York:20230401T120000
DTSTAMP:20230414T204903Z
URL:https://www.ahavatachim.org/events/pre-pesach-community-luncheon/
SUMMARY:Pre-Pesach Community Luncheon
DESCRIPTION:Sign up to sponsor or volunteer to make a crockpot dish!
ATTACH;FMTTYPE=image/jpeg:https://www.ahavatachim.org/wp-content/uploads/2
 023/03/Pre-Pesach-Community-Luncheon-2023-pdf.jpg
CATEGORIES:Featured,Shul Events
END:VEVENT
BEGIN:VTIMEZONE
TZID:America/New_York
X-LIC-LOCATION:America/New_York
BEGIN:DAYLIGHT
DTSTART:20230312T030000
TZOFFSETFROM:-0500
TZOFFSETTO:-0400
TZNAME:EDT
END:DAYLIGHT
END:VTIMEZONE
END:VCALENDAR