BEGIN:VCALENDAR
VERSION:2.0
PRODID:-//wp-events-plugin.com//7.2.3.1//EN
TZID:America/New_York
X-WR-TIMEZONE:America/New_York
BEGIN:VEVENT
UID:4164@ahavatachim.org
DTSTART;TZID=America/New_York:20220302T200000
DTEND;TZID=America/New_York:20220302T200000
DTSTAMP:20220227T191139Z
URL:https://www.ahavatachim.org/events/pre-purim-shiur-rsvp/
SUMMARY:Pre-Purim Shiur RSVP
DESCRIPTION:Please join us\, IN PERSON\, at the shul for Part I of a Pre-Pu
 rim Mini-Series discussing "The Meaning of Feasting of Purim". Chickies an
 d beer will be served!&nbsp\; All are welcome. RSVP to rabbishestack@gmail
 .com (reply to this email) by Tuesday\, March 1 at noon (for the food orde
 r).
ATTACH;FMTTYPE=image/jpeg:https://www.ahavatachim.org/wp-content/uploads/2
 022/02/Free-Purim-Clip-Art-N3.jpeg
CATEGORIES:Adult Learning Classes
END:VEVENT
BEGIN:VTIMEZONE
TZID:America/New_York
X-LIC-LOCATION:America/New_York
BEGIN:STANDARD
DTSTART:20211107T010000
TZOFFSETFROM:-0400
TZOFFSETTO:-0500
TZNAME:EST
END:STANDARD
END:VTIMEZONE
END:VCALENDAR