BEGIN:VCALENDAR
VERSION:2.0
PRODID:-//wp-events-plugin.com//7.2.3.1//EN
TZID:America/New_York
X-WR-TIMEZONE:America/New_York
BEGIN:VEVENT
UID:4628@ahavatachim.org
DTSTART;TZID=America/New_York:20230222T201500
DTEND;TZID=America/New_York:20230222T201500
DTSTAMP:20230202T163633Z
URL:https://www.ahavatachim.org/events/prof-daniel-rynhold-4-part-lecture-
 series-2023-02-22/
SUMMARY:Prof. Daniel Rynhold 4-Part Lecture Series
DESCRIPTION:
ATTACH;FMTTYPE=image/jpeg:https://www.ahavatachim.org/wp-content/uploads/2
 023/01/Community-Kollel-of-FL.jpeg
CATEGORIES:Adult Learning Classes
END:VEVENT
BEGIN:VTIMEZONE
TZID:America/New_York
X-LIC-LOCATION:America/New_York
BEGIN:STANDARD
DTSTART:20221106T010000
TZOFFSETFROM:-0400
TZOFFSETTO:-0500
TZNAME:EST
END:STANDARD
END:VTIMEZONE
END:VCALENDAR