BEGIN:VCALENDAR
VERSION:2.0
PRODID:-//wp-events-plugin.com//7.2.3.1//EN
TZID:America/New_York
X-WR-TIMEZONE:America/New_York
BEGIN:VEVENT
UID:4773@ahavatachim.org
DTSTART;TZID=America/New_York:20240510T170000
DTEND;TZID=America/New_York:20240511T200000
DTSTAMP:20240412T085323Z
URL:https://www.ahavatachim.org/events/prospective-family-shabbaton-3/
SUMMARY:Prospective Family Shabbaton
DESCRIPTION:RSVP: Ahavat Achim Prospective Family Shabbaton\n\n&nbsp\;
ATTACH;FMTTYPE=image/jpeg:https://www.ahavatachim.org/wp-content/uploads/2
 024/02/Northeast-Fair-Lawn-Shabbaton-2024-pdf.jpg
CATEGORIES:Featured,Shul Events
END:VEVENT
BEGIN:VTIMEZONE
TZID:America/New_York
X-LIC-LOCATION:America/New_York
BEGIN:DAYLIGHT
DTSTART:20240310T030000
TZOFFSETFROM:-0500
TZOFFSETTO:-0400
TZNAME:EDT
END:DAYLIGHT
END:VTIMEZONE
END:VCALENDAR