BEGIN:VCALENDAR
VERSION:2.0
PRODID:-//wp-events-plugin.com//7.2.3.1//EN
TZID:America/New_York
X-WR-TIMEZONE:America/New_York
BEGIN:VEVENT
UID:3847@ahavatachim.org
DTSTART;TZID=America/New_York:20210228T110000
DTEND;TZID=America/New_York:20210228T120000
DTSTAMP:20210127T201241Z
URL:https://www.ahavatachim.org/events/purim-car-parade/
SUMMARY:Purim Car Parade
DESCRIPTION:The youth department is excited to announce our upcoming Purim 
 Car Parade!\n&nbsp\;\nYouth and teen families are invited to join us in th
 e shul parking lot where&nbsp\;we will decorate our cars together and begi
 n a community wide car parade!&nbsp\;\n&nbsp\;\nShushan Purim\, Sunday\, F
 ebruary 28th&nbsp\;\nCar decorating party to begin at&nbsp\;11 AM\, follow
 ed by the car parade at 11:30 AM.&nbsp\;\n&nbsp\;\nRSVP to kira.batist.msw
 @gmail.com by February 21st to reserve a parking spot. $5 entry fee/car.&n
 bsp\;\n&nbsp\;\nAll community members are welcome to join the parade along
  the way. Our goal is to drive by as many houses as&nbsp\;possible!\n\n&nb
 sp\;\nStrict social distancing and masking required. Parking spots will be
  designated to facilitate these protocols. Car decorating supplies provide
 d by the youth department and distributed in pre portioned bags at the sta
 rt of the party.&nbsp\;&nbsp\;\n
ATTACH;FMTTYPE=image/jpeg:https://www.ahavatachim.org/wp-content/uploads/2
 021/01/PurimCarParade.jpeg
CATEGORIES:Featured,Youth Programs
END:VEVENT
BEGIN:VTIMEZONE
TZID:America/New_York
X-LIC-LOCATION:America/New_York
BEGIN:STANDARD
DTSTART:20201101T010000
TZOFFSETFROM:-0400
TZOFFSETTO:-0500
TZNAME:EST
END:STANDARD
END:VTIMEZONE
END:VCALENDAR