BEGIN:VCALENDAR
VERSION:2.0
PRODID:-//wp-events-plugin.com//7.2.3.1//EN
TZID:America/New_York
X-WR-TIMEZONE:America/New_York
BEGIN:VEVENT
UID:4163@ahavatachim.org
DTSTART;TZID=America/New_York:20220316T200000
DTEND;TZID=America/New_York:20220316T200000
DTSTAMP:20220227T040301Z
URL:https://www.ahavatachim.org/events/purim-chagigah-break-fast-spiel/
SUMMARY:Purim Chagigah Break Fast & Spiel
DESCRIPTION:We invite you to join us after the megillah reading for a break
  fast filled with delicious food\, great music\, and laughter&nbsp\;as we 
 gather together as a community to celebrate Purim!\nRSVP by 3/12!\n&nbsp\;
 \nClick image to view:\n
ATTACH;FMTTYPE=image/jpeg:https://www.ahavatachim.org/wp-content/uploads/2
 022/02/Screen-Shot-2022-02-26-at-10.55.14-PM.png
CATEGORIES:Featured,Shul Events
END:VEVENT
BEGIN:VTIMEZONE
TZID:America/New_York
X-LIC-LOCATION:America/New_York
BEGIN:DAYLIGHT
DTSTART:20220313T030000
TZOFFSETFROM:-0500
TZOFFSETTO:-0400
TZNAME:EDT
END:DAYLIGHT
END:VTIMEZONE
END:VCALENDAR