BEGIN:VCALENDAR
VERSION:2.0
PRODID:-//wp-events-plugin.com//7.2.3.1//EN
TZID:America/New_York
X-WR-TIMEZONE:America/New_York
BEGIN:VEVENT
UID:3849@ahavatachim.org
DTSTART;TZID=America/New_York;VALUE=DATE:20210217
DTEND;TZID=America/New_York;VALUE=DATE:20210227
DTSTAMP:20210211T030255Z
URL:https://www.ahavatachim.org/events/purim-kinder-gogo/
SUMMARY:Purim Kinder GOGO
DESCRIPTION:**Due to some enthusiastic&nbsp\;responses to this Kinder GOGO 
 Event\, we invite the adults of the community&nbsp\;who might enjoy receiv
 ing a package from our youth to sign up using the link below.**&nbsp\;\n&n
 bsp\;\nIt’s Purim time! In addition to our shul mishloach manot and Puri
 m car parade (rsvp info below)\, we have a&nbsp\;Kinder GOGO Event!&nbsp\;
 \n&nbsp\;\nThis GOGO event is an opportunity for your child to personalize
  and share a purim tradition with a friend in our Ahavat Achim family (in 
 a Covid-responsible way).&nbsp\;\n\nAs a special inter-generational twist\
 , each child will be paired with another member of our community&nbsp\;in 
 order to enrich their Purim experience! To further enhance this special ex
 change\, we encourage your child to create (or share a previously created)
  drawing\, hand written letter or colored picture along with the mishloach
  manot.&nbsp\;&nbsp\;\n&nbsp\;\nWe hope you will join us for this fun and 
 truly beautiful way to connect with our community!\n&nbsp\;\nPlease sign u
 p below&nbsp\;for the Purim Kinder GOGO Event&nbsp\;by&nbsp\;Wednesday\, F
 ebruary 17th.\n&nbsp\;\n+ Kinder families please sign up&nbsp\;HERE&nbsp\;
 \n&nbsp\;\n+ Adults wishing to participate please sign up&nbsp\;HERE.\n&nb
 sp\;\n[To sign up for the Purim Car Parade on&nbsp\;Sunday 2/28 @ 11AM - R
 SVP to&nbsp\; kira.batist.msw@gmail.com&nbsp\;by 2/21 for a spot]\n&nbsp\;
 \nAny questions/concerns\, please contact Natasha Borsuk -&nbsp\;NbNadler@
 gmail.com
ATTACH;FMTTYPE=image/jpeg:https://www.ahavatachim.org/wp-content/uploads/2
 021/02/PurimGOGO.jpeg
CATEGORIES:Featured,Youth Programs
END:VEVENT
BEGIN:VTIMEZONE
TZID:America/New_York
X-LIC-LOCATION:America/New_York
BEGIN:STANDARD
DTSTART:20201101T010000
TZOFFSETFROM:-0400
TZOFFSETTO:-0500
TZNAME:EST
END:STANDARD
END:VTIMEZONE
END:VCALENDAR