BEGIN:VCALENDAR
VERSION:2.0
PRODID:-//wp-events-plugin.com//7.2.3.1//EN
TZID:America/New_York
X-WR-TIMEZONE:America/New_York
BEGIN:VEVENT
UID:3848@ahavatachim.org
DTSTART;TZID=America/New_York;VALUE=DATE:20210219
DTEND;TZID=America/New_York;VALUE=DATE:20210220
DTSTAMP:20210207T015958Z
URL:https://www.ahavatachim.org/events/purim-mishloach-manot/
SUMMARY:Purim Mishloach Manot
DESCRIPTION:Purim is rapidly approaching which means it is one to order you
 r Mishloach Manot!&nbsp\; The deadline to order is 2/19th!\n&nbsp\;\nThis 
 year you can either order through the form or you can order using this&nbs
 p\;online Google Form!\n&nbsp\;\nWe can’t wait to celebrate with you! &n
 bsp\;\n&nbsp\;\nPS: Mishloach Manot will be delivered on 2/25! &nbsp\;\n&n
 bsp\;\n&nbsp\;&nbsp\; \n&nbsp\;\n&nbsp\;\n&nbsp\;
ATTACH;FMTTYPE=image/jpeg:https://www.ahavatachim.org/wp-content/uploads/2
 021/01/AA-Purim-Mishloach-Manot-flyer.png
CATEGORIES:Featured,Shul Events
END:VEVENT
BEGIN:VTIMEZONE
TZID:America/New_York
X-LIC-LOCATION:America/New_York
BEGIN:STANDARD
DTSTART:20201101T010000
TZOFFSETFROM:-0400
TZOFFSETTO:-0500
TZNAME:EST
END:STANDARD
END:VTIMEZONE
END:VCALENDAR