BEGIN:VCALENDAR
VERSION:2.0
PRODID:-//wp-events-plugin.com//7.2.3.1//EN
TZID:America/New_York
X-WR-TIMEZONE:America/New_York
BEGIN:VEVENT
UID:4396@ahavatachim.org
DTSTART;TZID=America/New_York;VALUE=DATE:20220401
DTEND;TZID=America/New_York;VALUE=DATE:20220403
DTSTAMP:20260121T011740Z
URL:https://www.ahavatachim.org/events/r-mohel-eliezer-lawrence-scholar-in
 -residence/
SUMMARY:R' Mohel Eliezer Lawrence Scholar-in-Residence
DESCRIPTION:
ATTACH;FMTTYPE=image/jpeg:https://www.ahavatachim.org/wp-content/uploads/2
 023/01/Eliezer-Lawrence-SIR-4222.jpg
CATEGORIES:Adult Learning Classes,Learning Program,Scholar-in-Residence
END:VEVENT
BEGIN:VTIMEZONE
TZID:America/New_York
X-LIC-LOCATION:America/New_York
BEGIN:DAYLIGHT
DTSTART:20220313T030000
TZOFFSETFROM:-0500
TZOFFSETTO:-0400
TZNAME:EDT
END:DAYLIGHT
END:VTIMEZONE
END:VCALENDAR