BEGIN:VCALENDAR
VERSION:2.0
PRODID:-//wp-events-plugin.com//7.2.3.1//EN
TZID:America/New_York
X-WR-TIMEZONE:America/New_York
BEGIN:VEVENT
UID:4303@ahavatachim.org
DTSTART;TZID=America/New_York:20230117T130000
DTEND;TZID=America/New_York:20230117T140000
DTSTAMP:20230103T212134Z
URL:https://www.ahavatachim.org/events/ramban-on-the-parsha-2023-01-17/
SUMMARY:Ramban on the Parsha
DESCRIPTION:
ATTACH;FMTTYPE=image/jpeg:https://www.ahavatachim.org/wp-content/uploads/2
 022/10/Screen-Shot-2022-10-28-at-2.53.31-PM-e1672780884998.png
CATEGORIES:Adult Learning Classes
END:VEVENT
BEGIN:VTIMEZONE
TZID:America/New_York
X-LIC-LOCATION:America/New_York
BEGIN:STANDARD
DTSTART:20221106T010000
TZOFFSETFROM:-0400
TZOFFSETTO:-0500
TZNAME:EST
END:STANDARD
END:VTIMEZONE
END:VCALENDAR