BEGIN:VCALENDAR
VERSION:2.0
PRODID:-//wp-events-plugin.com//7.2.3.1//EN
TZID:America/New_York
X-WR-TIMEZONE:America/New_York
BEGIN:VEVENT
UID:4058@ahavatachim.org
DTSTART;TZID=America/New_York:20210802T000000
DTEND;TZID=America/New_York:20210831T000000
DTSTAMP:20210802T153517Z
URL:https://www.ahavatachim.org/events/rosh-hashanah-scroll/
SUMMARY:Rosh Hashanah Scroll
DESCRIPTION:Congregation Ahavat Achim’s Sisterhood Membership Renewal &am
 p\; Rosh Hashana Scroll\n____ Yes\, please enroll me as a Sisterhood membe
 r\n____ Yes\, please include me/us on the Rosh Hashanah Scroll\nPlease PRI
 NT my/our name(s) on the Scroll as follows:\n_____________________________
 _________________________\nSisterhood dues for 5782 are $36\nInclusion in 
 the Rosh Hashanah Scroll is $10 per family\n&nbsp\;\nTo sign up for these 
 items you can do any of the following:\n\n\n 	\nClick on this link to sign
  up online.&nbsp\;\n\n 	\nPrint this form and mail it along with your chec
 k payable to Sisterhood of Ahavat Achim to Esther Schwed at 20-18 Saddle R
 iver Road\, Fair Lawn\, 07410&nbsp\;\n\n 	\nOr email Esther at aschwed77@g
 mail.com and pay with PayPal by clicking here\n\n\n&nbsp\;\nKindly respond
  by August 29th. Thank you for your participation\nMay Hashem grant us all
  a healthy\, joyful &amp\; peaceful New Year\n&nbsp\;
ATTACH;FMTTYPE=image/jpeg:https://www.ahavatachim.org/wp-content/uploads/2
 021/08/Rosh-Hashanah.png
CATEGORIES:Limited Series,Shul Events
END:VEVENT
BEGIN:VTIMEZONE
TZID:America/New_York
X-LIC-LOCATION:America/New_York
BEGIN:DAYLIGHT
DTSTART:20210314T030000
TZOFFSETFROM:-0500
TZOFFSETTO:-0400
TZNAME:EDT
END:DAYLIGHT
END:VTIMEZONE
END:VCALENDAR