BEGIN:VCALENDAR
VERSION:2.0
PRODID:-//wp-events-plugin.com//7.2.3.1//EN
TZID:America/New_York
X-WR-TIMEZONE:America/New_York
BEGIN:VEVENT
UID:4171@ahavatachim.org
DTSTART;TZID=America/New_York;VALUE=DATE:20220604
DTEND;TZID=America/New_York;VALUE=DATE:20220607
DTSTAMP:20260121T011745Z
URL:https://www.ahavatachim.org/events/scholar-in-residence/
SUMMARY:Shoshana & R' Leead Staller Scholar-in-Residence
DESCRIPTION:
ATTACH;FMTTYPE=image/jpeg:https://www.ahavatachim.org/wp-content/uploads/2
 022/06/R-Leead-and-Shoshana-SIR.jpg
CATEGORIES:Adult Learning Classes,Featured,Learning
 Program,Scholar-in-Residence,Shul Events
END:VEVENT
BEGIN:VTIMEZONE
TZID:America/New_York
X-LIC-LOCATION:America/New_York
BEGIN:DAYLIGHT
DTSTART:20220313T030000
TZOFFSETFROM:-0500
TZOFFSETTO:-0400
TZNAME:EDT
END:DAYLIGHT
END:VTIMEZONE
END:VCALENDAR