BEGIN:VCALENDAR
VERSION:2.0
PRODID:-//wp-events-plugin.com//7.2.3.1//EN
TZID:America/New_York
X-WR-TIMEZONE:America/New_York
BEGIN:VEVENT
UID:4184@ahavatachim.org
DTSTART;TZID=America/New_York:20220804T000000
DTEND;TZID=America/New_York:20220804T000000
DTSTAMP:20221229T030233Z
URL:https://www.ahavatachim.org/events/school-supply-drive/
SUMMARY:School Supply Drive
DESCRIPTION:School Supply Drive&nbsp\;- Drop off has officially begun!&nbsp
 \;Donate new or gently used backpacks (no stains\, tears or rips\, please!
 ) and new school supplies to children in need to be distributed by JFCS.&n
 bsp\;Drop off supplies until 8/4 in the box in the shul lobby and join us 
 on Tisha B'av afternoon at 3:30 PM in the social hall to pack the bags. Pl
 ease see the sample supply list as well as Amazon and Staples wish lists f
 or ideas on what to purchase! Any questions? Email Kira at&nbsp\;kira.bati
 st.msw@gmail.com.\n\n\n&nbsp\;\nhttps://www.staples.com/sharedlist/0e8b516
 7-085f-11ed-811c-005056b46a45?langId=-1\nhttps://www.amazon.com/hz/wishlis
 t/ls/17JA0KAEHEB6O?ref_=wl_share\n\n\n&nbsp\;\n
ATTACH;FMTTYPE=image/jpeg:https://www.ahavatachim.org/wp-content/uploads/2
 022/07/SchoolSupplyDrive-pdf.jpg
CATEGORIES:Featured,Shul Events,Youth Programs
END:VEVENT
BEGIN:VTIMEZONE
TZID:America/New_York
X-LIC-LOCATION:America/New_York
BEGIN:DAYLIGHT
DTSTART:20220313T030000
TZOFFSETFROM:-0500
TZOFFSETTO:-0400
TZNAME:EDT
END:DAYLIGHT
END:VTIMEZONE
END:VCALENDAR