BEGIN:VCALENDAR
VERSION:2.0
PRODID:-//wp-events-plugin.com//7.2.3.1//EN
TZID:America/New_York
X-WR-TIMEZONE:America/New_York
BEGIN:VEVENT
UID:3946@ahavatachim.org
DTSTART;TZID=America/New_York:20210508T210000
DTEND;TZID=America/New_York:20210508T220000
DTSTAMP:20210402T013851Z
URL:https://www.ahavatachim.org/events/scotch-tasting/
SUMMARY:Scotch Tasting
DESCRIPTION:In the wake of the success of our Virtual Wine Tasting\, we are
  planning a Virtual Scotch Tasting.&nbsp\; Join us on Saturday\, May 8th a
 t 9:00pm over Zoom for the opportunity to try out 4 new Scotches!&nbsp\; E
 ach tasting package will contain four 2 ounces samples (you decide if you 
 want to share!) and costs $35. &nbsp\;RSVP by April 30th!&nbsp\;
ATTACH;FMTTYPE=image/jpeg:https://www.ahavatachim.org/wp-content/uploads/2
 021/04/AA-Scotch-Tasting-PDF-pdf.jpg
CATEGORIES:Featured,Shul Events
END:VEVENT
BEGIN:VTIMEZONE
TZID:America/New_York
X-LIC-LOCATION:America/New_York
BEGIN:DAYLIGHT
DTSTART:20210314T030000
TZOFFSETFROM:-0500
TZOFFSETTO:-0400
TZNAME:EDT
END:DAYLIGHT
END:VTIMEZONE
END:VCALENDAR