BEGIN:VCALENDAR
VERSION:2.0
PRODID:-//wp-events-plugin.com//7.2.3.1//EN
TZID:America/New_York
X-WR-TIMEZONE:America/New_York
BEGIN:VEVENT
UID:3757@ahavatachim.org
DTSTART;TZID=America/New_York:20201121T163000
DTEND;TZID=America/New_York:20201121T173000
DTSTAMP:20201206T004000Z
URL:https://www.ahavatachim.org/events/sefer-daniel-shabbat-afternoon-betw
 een-mincha-maariv-2020-11-21/
SUMMARY:Sefer Daniel – Shabbat Afternoon between Mincha & Maariv
DESCRIPTION:
ATTACH;FMTTYPE=image/jpeg:https://www.ahavatachim.org/wp-content/uploads/2
 020/11/Daniel-W400x300.jpg
CATEGORIES:Adult Learning Classes
END:VEVENT
BEGIN:VTIMEZONE
TZID:America/New_York
X-LIC-LOCATION:America/New_York
BEGIN:STANDARD
DTSTART:20201101T010000
TZOFFSETFROM:-0400
TZOFFSETTO:-0500
TZNAME:EST
END:STANDARD
END:VTIMEZONE
END:VCALENDAR