BEGIN:VCALENDAR
VERSION:2.0
PRODID:-//wp-events-plugin.com//7.2.3.1//EN
TZID:America/New_York
X-WR-TIMEZONE:America/New_York
BEGIN:VEVENT
UID:4719@ahavatachim.org
DTSTART;TZID=America/New_York:20240221T203000
DTEND;TZID=America/New_York:20240221T213000
DTSTAMP:20240202T021828Z
URL:https://www.ahavatachim.org/events/self-defense-classes/
SUMMARY:Self Defense Classes
DESCRIPTION:Join Ahavat Achim as we learn the basic techniques used to esca
 pe holds and get an attacker to back off.&nbsp\; You will also gain the me
 ntal training you to deal with attacks that come on suddenly.&nbsp\;\nDuri
 ng this 5 week class series from 2/21 through 3/20\, you'll have the oppor
 tunity to learn from former USA team coach and international referee\, Mas
 ter Kim.&nbsp\;&nbsp\;\n&nbsp\;\nDeadline to register is 2/10!\n&nbsp\;\nC
 lick to Sign-Up
ATTACH;FMTTYPE=image/jpeg:https://www.ahavatachim.org/wp-content/uploads/2
 024/02/Screenshot-2024-02-01-at-7.24.51-PM.png
CATEGORIES:Featured,Shul Events
END:VEVENT
BEGIN:VTIMEZONE
TZID:America/New_York
X-LIC-LOCATION:America/New_York
BEGIN:STANDARD
DTSTART:20231105T010000
TZOFFSETFROM:-0400
TZOFFSETTO:-0500
TZNAME:EST
END:STANDARD
END:VTIMEZONE
END:VCALENDAR