BEGIN:VCALENDAR
VERSION:2.0
PRODID:-//wp-events-plugin.com//7.2.3.1//EN
TZID:America/New_York
X-WR-TIMEZONE:America/New_York
BEGIN:VEVENT
UID:4270@ahavatachim.org
DTSTART;TZID=America/New_York:20221223T163000
DTEND;TZID=America/New_York:20221223T200000
DTSTAMP:20221221T012324Z
URL:https://www.ahavatachim.org/events/shabbat-chanukah-dinner/
SUMMARY:Shabbat Chanukah Dinner
DESCRIPTION:RSVP (here: https://forms.gle/muzvM63RSP3R4v6v8) for 12/4 for e
 arly bird pricing!
ATTACH;FMTTYPE=image/jpeg:https://www.ahavatachim.org/wp-content/uploads/2
 022/11/AA-Chanukah-Dinner.jpg
CATEGORIES:Featured,Shul Events
END:VEVENT
BEGIN:VTIMEZONE
TZID:America/New_York
X-LIC-LOCATION:America/New_York
BEGIN:STANDARD
DTSTART:20221106T010000
TZOFFSETFROM:-0400
TZOFFSETTO:-0500
TZNAME:EST
END:STANDARD
END:VTIMEZONE
END:VCALENDAR