BEGIN:VCALENDAR
VERSION:2.0
PRODID:-//wp-events-plugin.com//7.2.3.1//EN
TZID:America/New_York
X-WR-TIMEZONE:America/New_York
BEGIN:VEVENT
UID:4180@ahavatachim.org
DTSTART;TZID=America/New_York:20220716T113000
DTEND;TZID=America/New_York:20220716T113000
DTSTAMP:20220630T163557Z
URL:https://www.ahavatachim.org/events/shabbat-social-luncheon/
SUMMARY:Shabbat Social Luncheon
DESCRIPTION:We would like to invite you to a Shabbat Social Luncheon on Jul
 y 16th!&nbsp\; This event is sponsored in part by Mimi and Barry Weinraub 
 in honor of Barry's retirement\, so come help them celebrate!&nbsp\;&nbsp\
 ;\n&nbsp\;\nPlease RSVP by July 12th!
ATTACH;FMTTYPE=image/jpeg:https://www.ahavatachim.org/wp-content/uploads/2
 022/06/Shabbat-Social-Luncheon.png
CATEGORIES:Featured,Shul Events
END:VEVENT
BEGIN:VTIMEZONE
TZID:America/New_York
X-LIC-LOCATION:America/New_York
BEGIN:DAYLIGHT
DTSTART:20220313T030000
TZOFFSETFROM:-0500
TZOFFSETTO:-0400
TZNAME:EDT
END:DAYLIGHT
END:VTIMEZONE
END:VCALENDAR