BEGIN:VCALENDAR
VERSION:2.0
PRODID:-//wp-events-plugin.com//7.2.3.1//EN
TZID:America/New_York
X-WR-TIMEZONE:America/New_York
BEGIN:VEVENT
UID:3952@ahavatachim.org
DTSTART;TZID=America/New_York;VALUE=DATE:20210516
DTEND;TZID=America/New_York;VALUE=DATE:20210517
DTSTAMP:20210427T141930Z
URL:https://www.ahavatachim.org/events/shavout-salad-exchange/
SUMMARY:Shavout Salad Exchange!
DESCRIPTION:In honor of Shavout (also known as the Festival of First Fruits
  and Grains)\, we are delighted to announce the next installment in our fo
 od train series\; a Salad Exchange!&nbsp\; Sign up by 5/12 to exchange a s
 alad with another family on 5/16 and engage in a safe and socially distant
  interaction!&nbsp\; We can’t wait to nibble on your delicious salads!&n
 bsp\;&nbsp\;\n\n\n\n&nbsp\;
ATTACH;FMTTYPE=image/jpeg:https://www.ahavatachim.org/wp-content/uploads/2
 021/04/AA-Salad-Exchange-Flyer.png
CATEGORIES:Featured,Shul Events
END:VEVENT
BEGIN:VTIMEZONE
TZID:America/New_York
X-LIC-LOCATION:America/New_York
BEGIN:DAYLIGHT
DTSTART:20210314T030000
TZOFFSETFROM:-0500
TZOFFSETTO:-0400
TZNAME:EDT
END:DAYLIGHT
END:VTIMEZONE
END:VCALENDAR