BEGIN:VCALENDAR
VERSION:2.0
PRODID:-//wp-events-plugin.com//7.2.3.1//EN
TZID:America/New_York
X-WR-TIMEZONE:America/New_York
BEGIN:VEVENT
UID:4167@ahavatachim.org
DTSTART;TZID=America/New_York:20220604T153000
DTEND;TZID=America/New_York:20220604T153000
DTSTAMP:20220518T163005Z
URL:https://www.ahavatachim.org/events/shavuot-ice-cream-bar-parent-child-
 learning/
SUMMARY:Shavuot Ice Cream Bar & Parent Child Learning
DESCRIPTION:Join the youth department for a special Shavuot edition of Pare
 nt Child Learning followed by a delicious ice cream bar!!!\n&nbsp\;\nShabb
 at\, June 4th at 3:30 PM.&nbsp\;\n&nbsp\;\nE-mail&nbsp\;youth@ahavatachim.
 org&nbsp\;to sponsor a flavor!\n&nbsp\;\nSee you there!\n&nbsp\;\nThe Yout
 h Committee
ATTACH;FMTTYPE=image/jpeg:https://www.ahavatachim.org/wp-content/uploads/2
 022/05/Shavuot-1-pdf.jpg
CATEGORIES:Featured,Youth Programs
END:VEVENT
BEGIN:VTIMEZONE
TZID:America/New_York
X-LIC-LOCATION:America/New_York
BEGIN:DAYLIGHT
DTSTART:20220313T030000
TZOFFSETFROM:-0500
TZOFFSETTO:-0400
TZNAME:EDT
END:DAYLIGHT
END:VTIMEZONE
END:VCALENDAR