BEGIN:VCALENDAR
VERSION:2.0
PRODID:-//wp-events-plugin.com//7.2.3.1//EN
TZID:America/New_York
X-WR-TIMEZONE:America/New_York
BEGIN:VEVENT
UID:4798@ahavatachim.org
DTSTART;TZID=America/New_York:20240611T230000
DTEND;TZID=America/New_York:20240612T170000
DTSTAMP:20240607T191754Z
URL:https://www.ahavatachim.org/events/shavuot-teen-program/
SUMMARY:Shavuot Teen Program
DESCRIPTION:
ATTACH;FMTTYPE=image/jpeg:https://www.ahavatachim.org/wp-content/uploads/2
 024/06/Screenshot-2024-06-07-at-3.15.56-PM.png
CATEGORIES:Featured,Youth Programs
END:VEVENT
BEGIN:VTIMEZONE
TZID:America/New_York
X-LIC-LOCATION:America/New_York
BEGIN:DAYLIGHT
DTSTART:20240310T030000
TZOFFSETFROM:-0500
TZOFFSETTO:-0400
TZNAME:EDT
END:DAYLIGHT
END:VTIMEZONE
END:VCALENDAR