BEGIN:VCALENDAR
VERSION:2.0
PRODID:-//wp-events-plugin.com//7.2.3.1//EN
TZID:America/New_York
X-WR-TIMEZONE:America/New_York
BEGIN:VEVENT
UID:2178@ahavatachim.org
DTSTART;TZID=America/New_York:20200801T213000
DTEND;TZID=America/New_York:20200801T233000
DTSTAMP:20200710T130608Z
URL:https://www.ahavatachim.org/events/shul-dinner-2020/
SUMMARY:Shul Dinner 2020
DESCRIPTION:Join the Ahavat Achim community at our Virtual Cheese tasting w
 ith Brent "The Cheese Guy" honoring all the Frontline Workers in our shul!
 \nDeadline to RSVP - Mon\, July 27th @ 8pm\nTickets include an assortment
  of four "The Cheese Guy" cheeses\, fig preserves\, crackers\, and your ch
 oice of a bottle of white or red wine.\n[gravityform id="21" title="true" 
 description="true"]
CATEGORIES:Shul Events
END:VEVENT
BEGIN:VTIMEZONE
TZID:America/New_York
X-LIC-LOCATION:America/New_York
BEGIN:DAYLIGHT
DTSTART:20200308T030000
TZOFFSETFROM:-0500
TZOFFSETTO:-0400
TZNAME:EDT
END:DAYLIGHT
END:VTIMEZONE
END:VCALENDAR