BEGIN:VCALENDAR
VERSION:2.0
PRODID:-//wp-events-plugin.com//7.2.3.1//EN
TZID:America/New_York
X-WR-TIMEZONE:America/New_York
BEGIN:VEVENT
UID:3750@ahavatachim.org
DTSTART;TZID=America/New_York:20201122T090000
DTEND;TZID=America/New_York:20201122T100000
DTSTAMP:20201118T224359Z
URL:https://www.ahavatachim.org/events/siyum-on-the-completion-of-tractate
 -eruvin/
SUMMARY:Siyum on the Completion of Tractate Eruvin
DESCRIPTION:Join us for a siyum on Sunday&nbsp\;November 18th at 9 am to ce
 lebrate those finishing Tractate Eruvin with "Daf Yomi":\nBrett Norton\nZi
 v Farajun\nLiz Jacob\nJosh Finkelstein\nSteve Plotnick\nAvi Vann\nChana Sh
 estack\nRabbi Ely Shestack\nhttps://zoom.us/j/7291311899\n&nbsp\;&nbsp\; P
 assword: 112233
ATTACH;FMTTYPE=image/jpeg:https://www.ahavatachim.org/wp-content/uploads/2
 020/11/Siyum-FLyer.jpg
CATEGORIES:Featured,Shul Events
END:VEVENT
BEGIN:VTIMEZONE
TZID:America/New_York
X-LIC-LOCATION:America/New_York
BEGIN:STANDARD
DTSTART:20201101T010000
TZOFFSETFROM:-0400
TZOFFSETTO:-0500
TZNAME:EST
END:STANDARD
END:VTIMEZONE
END:VCALENDAR