BEGIN:VCALENDAR
VERSION:2.0
PRODID:-//wp-events-plugin.com//7.2.3.1//EN
TZID:America/New_York
X-WR-TIMEZONE:America/New_York
BEGIN:VEVENT
UID:4119@ahavatachim.org
DTSTART;TZID=America/New_York:20211031T141500
DTEND;TZID=America/New_York:20211031T151500
DTSTAMP:20211025T094237Z
URL:https://www.ahavatachim.org/events/soccer-dodgeball/
SUMMARY:Soccer & Dodgeball
DESCRIPTION:The youth committee invites children ages 3 and up to a fun spo
 rts event run by Coach Sasha! Children will play dodgeball and soccer with
  their friends and enjoy fun prizes! RSVP to&nbsp\;kira.batist.msw@gmail.c
 om by 10/25. See attached&nbsp\;flyer with more details.\nClick on image t
 o view:\n
ATTACH;FMTTYPE=image/jpeg:https://www.ahavatachim.org/wp-content/uploads/2
 021/10/CoachSasha-1.jpeg
CATEGORIES:Featured,Youth Programs
END:VEVENT
BEGIN:VTIMEZONE
TZID:America/New_York
X-LIC-LOCATION:America/New_York
BEGIN:DAYLIGHT
DTSTART:20210314T030000
TZOFFSETFROM:-0500
TZOFFSETTO:-0400
TZNAME:EDT
END:DAYLIGHT
END:VTIMEZONE
END:VCALENDAR