BEGIN:VCALENDAR
VERSION:2.0
PRODID:-//wp-events-plugin.com//7.2.3.1//EN
TZID:America/New_York
X-WR-TIMEZONE:America/New_York
BEGIN:VEVENT
UID:3800@ahavatachim.org
DTSTART;TZID=America/New_York;VALUE=DATE:20201226
DTEND;TZID=America/New_York;VALUE=DATE:20201227
DTSTAMP:20201209T035735Z
URL:https://www.ahavatachim.org/events/soup-train-exchange/
SUMMARY:Soup Train Exchange
DESCRIPTION:Due to the resounding success of our Simchat Torah Dessert&nbsp
 \;Train\, we will be continuing this program with a themed exchange each o
 f the upcoming months.&nbsp\; In December\, we will be doing a&nbsp\;Soup&
 nbsp\;Train!&nbsp\;\nFor those interested\, please sign up using this&nbsp
 \;Google Form&nbsp\;to make (or buy) soup&nbsp\;for\, and receive soup&nbs
 p\;from someone else!&nbsp\; In addition to sharing your address and prefe
 rred contact info\, there is a comment column in the form where you can sh
 are any food restrictions\, delivery details\, preference for a purchased 
 item\, etc. It is our recommendation to share parve options only\, though 
 you can request a dairy option (in the comment field) if preferred.\n\nPle
 ase&nbsp\;sign up&nbsp\;by Saturday\, December 26th and we will then share
  the assignments on Sunday\,&nbsp\;December 27th.&nbsp\; The exchange will
  happen on Friday\, January 1st.&nbsp\;\n\nIf you have any questions\, fee
 l free to reach out to me.\nLooking forward to eating some yummy soup!&nbs
 p\;&nbsp\;\nLiz &amp\; Aliza\, Programming Co-Chairs\nelysheva23@gmail.com
 &nbsp\;
ATTACH;FMTTYPE=image/jpeg:https://www.ahavatachim.org/wp-content/uploads/2
 020/12/soupTrain.jpg
CATEGORIES:Featured,Shul Events
END:VEVENT
BEGIN:VTIMEZONE
TZID:America/New_York
X-LIC-LOCATION:America/New_York
BEGIN:STANDARD
DTSTART:20201101T010000
TZOFFSETFROM:-0400
TZOFFSETTO:-0500
TZNAME:EST
END:STANDARD
END:VTIMEZONE
END:VCALENDAR