BEGIN:VCALENDAR
VERSION:2.0
PRODID:-//wp-events-plugin.com//7.2.3.1//EN
TZID:America/New_York
X-WR-TIMEZONE:America/New_York
BEGIN:VEVENT
UID:4043@ahavatachim.org
DTSTART;TZID=America/New_York:20210710T160000
DTEND;TZID=America/New_York:20210710T160000
DTSTAMP:20210701T025658Z
URL:https://www.ahavatachim.org/events/stay-and-play/
SUMMARY:Stay and Play
DESCRIPTION:Click on image to enlarge\n\n\n&nbsp\;
ATTACH;FMTTYPE=image/jpeg:https://www.ahavatachim.org/wp-content/uploads/2
 021/06/StayPLayJuly2021.jpeg
CATEGORIES:Featured,Youth Programs
END:VEVENT
BEGIN:VTIMEZONE
TZID:America/New_York
X-LIC-LOCATION:America/New_York
BEGIN:DAYLIGHT
DTSTART:20210314T030000
TZOFFSETFROM:-0500
TZOFFSETTO:-0400
TZNAME:EDT
END:DAYLIGHT
END:VTIMEZONE
END:VCALENDAR