BEGIN:VCALENDAR
VERSION:2.0
PRODID:-//wp-events-plugin.com//7.2.3.1//EN
TZID:America/New_York
X-WR-TIMEZONE:America/New_York
BEGIN:VEVENT
UID:4672@ahavatachim.org
DTSTART;TZID=America/New_York:20230708T160000
DTEND;TZID=America/New_York:20230708T160000
DTSTAMP:20230703T122257Z
URL:https://www.ahavatachim.org/events/stay-play-10/
SUMMARY:Stay & Play
DESCRIPTION:
ATTACH;FMTTYPE=image/jpeg:https://www.ahavatachim.org/wp-content/uploads/2
 023/07/StayPlay7.8..23-pdf.jpg
CATEGORIES:Featured,Youth Programs
END:VEVENT
BEGIN:VTIMEZONE
TZID:America/New_York
X-LIC-LOCATION:America/New_York
BEGIN:DAYLIGHT
DTSTART:20230312T030000
TZOFFSETFROM:-0500
TZOFFSETTO:-0400
TZNAME:EDT
END:DAYLIGHT
END:VTIMEZONE
END:VCALENDAR